BEGIN:VCALENDAR
VERSION:2.0
PRODID:-//California Emerging Technology Fund - ECPv6.15.20//NONSGML v1.0//EN
CALSCALE:GREGORIAN
METHOD:PUBLISH
X-WR-CALNAME:California Emerging Technology Fund
X-ORIGINAL-URL:https://www.cetfund.org
X-WR-CALDESC:Events for California Emerging Technology Fund
REFRESH-INTERVAL;VALUE=DURATION:PT1H
X-Robots-Tag:noindex
X-PUBLISHED-TTL:PT1H
BEGIN:VTIMEZONE
TZID:America/Los_Angeles
BEGIN:DAYLIGHT
TZOFFSETFROM:-0800
TZOFFSETTO:-0700
TZNAME:PDT
DTSTART:20190310T100000
END:DAYLIGHT
BEGIN:STANDARD
TZOFFSETFROM:-0700
TZOFFSETTO:-0800
TZNAME:PST
DTSTART:20191103T090000
END:STANDARD
BEGIN:DAYLIGHT
TZOFFSETFROM:-0800
TZOFFSETTO:-0700
TZNAME:PDT
DTSTART:20200308T100000
END:DAYLIGHT
BEGIN:STANDARD
TZOFFSETFROM:-0700
TZOFFSETTO:-0800
TZNAME:PST
DTSTART:20201101T090000
END:STANDARD
BEGIN:DAYLIGHT
TZOFFSETFROM:-0800
TZOFFSETTO:-0700
TZNAME:PDT
DTSTART:20210314T100000
END:DAYLIGHT
BEGIN:STANDARD
TZOFFSETFROM:-0700
TZOFFSETTO:-0800
TZNAME:PST
DTSTART:20211107T090000
END:STANDARD
END:VTIMEZONE
BEGIN:VEVENT
DTSTART;VALUE=DATE:20201201
DTEND;VALUE=DATE:20201202
DTSTAMP:20260423T225632
CREATED:20201201T172101Z
LAST-MODIFIED:20240905T144052Z
UID:11622-1606780800-1606867199@www.cetfund.org
SUMMARY:Giving Tuesday Spotlight: San José Digital Inclusion Partnership
DESCRIPTION:Donate to the San José Digital Inclusion Fund\n\nToday\, more than 20\,000 students in San José remain unconnected and unable to participate in distance learning as they head into the second half of the school year. \nThe Digital Inclusion Partnership team has prepared a media toolkit for you to support in spreading the word about the Partnership’s Giving Tuesday event.  The donations will support providing connectivity for more students in San José. \nGratefully\,\nThe San José Digital Inclusion Partnership\nCalifornia Emerging Technology Fund \n 
URL:https://www.cetfund.org/event/giving-tuesday-spotlight-san-jose-digital-inclusion-partnership/
LOCATION:CA
CATEGORIES:San Jose Digital Inclusion Partnership
END:VEVENT
END:VCALENDAR