BEGIN:VCALENDAR
VERSION:2.0
PRODID:-//California Emerging Technology Fund - ECPv6.15.20//NONSGML v1.0//EN
CALSCALE:GREGORIAN
METHOD:PUBLISH
X-ORIGINAL-URL:https://www.cetfund.org
X-WR-CALDESC:Events for California Emerging Technology Fund
REFRESH-INTERVAL;VALUE=DURATION:PT1H
X-Robots-Tag:noindex
X-PUBLISHED-TTL:PT1H
BEGIN:VTIMEZONE
TZID:America/Los_Angeles
BEGIN:DAYLIGHT
TZOFFSETFROM:-0800
TZOFFSETTO:-0700
TZNAME:PDT
DTSTART:20220313T100000
END:DAYLIGHT
BEGIN:STANDARD
TZOFFSETFROM:-0700
TZOFFSETTO:-0800
TZNAME:PST
DTSTART:20221106T090000
END:STANDARD
BEGIN:DAYLIGHT
TZOFFSETFROM:-0800
TZOFFSETTO:-0700
TZNAME:PDT
DTSTART:20230312T100000
END:DAYLIGHT
BEGIN:STANDARD
TZOFFSETFROM:-0700
TZOFFSETTO:-0800
TZNAME:PST
DTSTART:20231105T090000
END:STANDARD
BEGIN:DAYLIGHT
TZOFFSETFROM:-0800
TZOFFSETTO:-0700
TZNAME:PDT
DTSTART:20240310T100000
END:DAYLIGHT
BEGIN:STANDARD
TZOFFSETFROM:-0700
TZOFFSETTO:-0800
TZNAME:PST
DTSTART:20241103T090000
END:STANDARD
END:VTIMEZONE
BEGIN:VEVENT
DTSTART;TZID=America/Los_Angeles:20230225T100000
DTEND;TZID=America/Los_Angeles:20230225T140000
DTSTAMP:20260422T092114
CREATED:20230213T152855Z
LAST-MODIFIED:20230213T153016Z
UID:14167-1677319200-1677333600@www.cetfund.org
SUMMARY:Get Connected! ACP Enrollment Event with Sacred Heart Community Service
DESCRIPTION:
URL:https://www.cetfund.org/event/get-connected-acp-enrollment-event-with-sacred-heart-community-service/
LOCATION:Sacred Heart Community Service\, 550 South First Street\, San Jose\, 95110
CATEGORIES:San Jose Digital Inclusion Partnership
ATTACH;FMTTYPE=image/png:https://www.cetfund.org/wp-content/uploads/2023/02/022523-ACP-Event-Flyer-ENG.png
END:VEVENT
END:VCALENDAR